BEGIN:VCALENDAR
VERSION:2.0
PRODID:-//Intand Corporation//Tandem//EN
METHOD:PUBLISH
BEGIN:VEVENT
DTSTAMP:20260422T002446Z
DTSTART:20141104T020000Z
DTEND:20141104T050000Z
TRANSP:TRANSPARENT
PRIORITY:0
SUMMARY:AAU Basketball
LOCATION:GPHS Main Gym\, GPHS PE Gym\, Grants Pass High School 
DESCRIPTION:Robert Lingo-\n659-2470\n\nGroups:\nAAU Girls Basketball\nAAU 
 Boys Basketball\n\nSchools:\nGrants Pass High School \n\nLocations:\nGPHS 
 Main Gym\nGPHS PE Gym\nGrants Pass High School \n\n
URL;VALUE=URI:https://grantspass.tandem.co/index.php?type=view&action=even
 t&id=28372
CREATED:20140922T221302Z
LAST-MODIFIED:20140922T221302Z
UID:event-28372-grantspasshigh@intand.com
END:VEVENT
END:VCALENDAR
