BEGIN:VCALENDAR
VERSION:2.0
PRODID:-//Intand Corporation//Tandem//EN
METHOD:PUBLISH
BEGIN:VEVENT
DTSTAMP:20260422T003131Z
DTSTART:20100921T230000Z
DTEND:20100922T000000Z
TRANSP:TRANSPARENT
PRIORITY:0
SUMMARY:GPHS JV Boys Soccer w/Ashland
LOCATION:Ashland High School
DESCRIPTION:Groups:\nGPHS Soccer Boys JV\n\nSchools:\nGrants Pass High Sch
 ool \nAshland High School\n\nLocation:\nAshland High School\n\n
URL;VALUE=URI:https://grantspass.tandem.co/index.php?type=view&action=even
 t&id=275
CREATED:20100726T054728Z
LAST-MODIFIED:20100726T054728Z
UID:event-275-grantspasshigh@intand.com
END:VEVENT
END:VCALENDAR
