BEGIN:VCALENDAR
VERSION:2.0
PRODID:-//Intand Corporation//Tandem//EN
METHOD:PUBLISH
BEGIN:VEVENT
DTSTAMP:20260422T002521Z
DTSTART:20101006T010000Z
DTEND:20101006T023000Z
TRANSP:TRANSPARENT
PRIORITY:0
SUMMARY:AAU Girls Basketball 
LOCATION:GPHS Main Gym\, GPHS PE Gym
DESCRIPTION:4th and 7th Grade on Tuesday\n4th and 7th Grade on Wednesday.\
 n\nGroups:\nAAU Girls Basketball\n\nSchools:\nGrants Pass High School \n\n
 Locations:\nGPHS Main Gym\nGPHS PE Gym\n\n
URL;VALUE=URI:https://grantspass.tandem.co/index.php?type=view&action=even
 t&id=2746
CREATED:20100927T205937Z
LAST-MODIFIED:20100927T210030Z
UID:event-2746-grantspasshigh@intand.com
END:VEVENT
END:VCALENDAR
