BEGIN:VCALENDAR
VERSION:2.0
PRODID:-//Intand Corporation//Tandem//EN
METHOD:PUBLISH
BEGIN:VEVENT
DTSTAMP:20260422T013038Z
DTSTART:20101111T013000Z
DTEND:20101111T030000Z
TRANSP:TRANSPARENT
PRIORITY:0
SUMMARY:B&G Volleyball
LOCATION:Highland Gym
DESCRIPTION:Groups:\nB&G Club Volleyball\n\nSchools:\nHighland Elementary 
 School\n\nLocation:\nHighland Gym\n\n
URL;VALUE=URI:https://grantspass.tandem.co/index.php?type=view&action=even
 t&id=2732
CREATED:20100927T153724Z
LAST-MODIFIED:20100927T153724Z
UID:event-2732-grantspasshigh@intand.com
END:VEVENT
END:VCALENDAR
