BEGIN:VCALENDAR
VERSION:2.0
PRODID:-//Intand Corporation//Tandem//EN
METHOD:PUBLISH
BEGIN:VEVENT
DTSTAMP:20260422T001723Z
DTSTART:20110228T230000Z
DTEND:20110301T050000Z
TRANSP:TRANSPARENT
PRIORITY:0
SUMMARY:Parkside Gym Closures
LOCATION:Parkside Gym
DESCRIPTION:Groups:\nParkside Elementary School Faculty\n\nSchools:\nParks
 ide Elementary School\n\nLocation:\nParkside Gym\n\n
URL;VALUE=URI:https://grantspass.tandem.co/index.php?type=view&action=even
 t&id=2597
CREATED:20100924T185056Z
LAST-MODIFIED:20100924T185056Z
UID:event-2597-grantspasshigh@intand.com
END:VEVENT
END:VCALENDAR
