BEGIN:VCALENDAR
VERSION:2.0
PRODID:-//Intand Corporation//Tandem//EN
METHOD:PUBLISH
BEGIN:VEVENT
DTSTAMP:20260422T003123Z
DTSTART:20110512T213000Z
DTEND:20110513T050000Z
TRANSP:TRANSPARENT
PRIORITY:0
SUMMARY:Parkside Field Closures
LOCATION:Allen Dale Field #1\, Allen Dale Field #2 (Soccer Field)
DESCRIPTION:Groups:\nAllen Dale Elementary School Faculty\n\nSchools:\nAll
 en Dale Elementary School\n\nLocations:\nAllen Dale Field #1\nAllen Dale F
 ield #2 (Soccer Field)\n\n
URL;VALUE=URI:https://grantspass.tandem.co/index.php?type=view&action=even
 t&id=2546
CREATED:20100924T181229Z
LAST-MODIFIED:20100924T181229Z
UID:event-2546-grantspasshigh@intand.com
END:VEVENT
END:VCALENDAR
