BEGIN:VCALENDAR
VERSION:2.0
PRODID:-//Intand Corporation//Tandem//EN
METHOD:PUBLISH
BEGIN:VEVENT
DTSTAMP:20260422T013139Z
DTSTART:20110226T160000Z
DTEND:20110227T073000Z
TRANSP:TRANSPARENT
PRIORITY:0
SUMMARY:Mardi Gras Dance
LOCATION:GPHS Commons
DESCRIPTION:Groups:\nGPHS Leadership\n\nSchools:\nGrants Pass High School 
 \n\nLocation:\nGPHS Commons\n\n
URL;VALUE=URI:https://grantspass.tandem.co/index.php?type=view&action=even
 t&id=2536
CREATED:20100924T162830Z
LAST-MODIFIED:20110120T233120Z
UID:event-2536-grantspasshigh@intand.com
END:VEVENT
END:VCALENDAR
