BEGIN:VCALENDAR
VERSION:2.0
PRODID:-//Intand Corporation//Tandem//EN
METHOD:PUBLISH
BEGIN:VEVENT
DTSTAMP:20260422T003506Z
DTSTART:20100925T200000Z
DTEND:20100925T210000Z
TRANSP:TRANSPARENT
PRIORITY:0
SUMMARY:GPHS JV Girls Soccer w/South Medford
LOCATION:South Medford High School
DESCRIPTION:Groups:\nGPHS Soccer Girls JV\n\nSchools:\nGrants Pass High Sc
 hool \nSouth Medford High School\n\nLocation:\nSouth Medford High School\n
 \n
URL;VALUE=URI:https://grantspass.tandem.co/index.php?type=view&action=even
 t&id=250
CREATED:20100726T053105Z
LAST-MODIFIED:20100726T053105Z
UID:event-250-grantspasshigh@intand.com
END:VEVENT
END:VCALENDAR
