BEGIN:VCALENDAR
VERSION:2.0
PRODID:-//Intand Corporation//Tandem//EN
METHOD:PUBLISH
BEGIN:VEVENT
DTSTAMP:20260422T001600Z
DTSTART:20101204T190000Z
DTEND:20101204T201500Z
TRANSP:TRANSPARENT
PRIORITY:0
SUMMARY:GPHS JV Boys Basketball w/Bend
LOCATION:GPHS Main Gym
DESCRIPTION:Groups:\nGPHS Basketball Boys JV\n\nSchools:\nGrants Pass High
  School \n\nLocation:\nGPHS Main Gym\n\n
URL;VALUE=URI:https://grantspass.tandem.co/index.php?type=view&action=even
 t&id=2274
CREATED:20100922T031407Z
LAST-MODIFIED:20101101T163150Z
UID:event-2274-grantspasshigh@intand.com
END:VEVENT
END:VCALENDAR
