BEGIN:VCALENDAR
VERSION:2.0
PRODID:-//Intand Corporation//Tandem//EN
METHOD:PUBLISH
BEGIN:VEVENT
DTSTAMP:20260422T001616Z
DTSTART:20110523T190000Z
DTEND:20110524T010000Z
TRANSP:TRANSPARENT
PRIORITY:0
SUMMARY:[Cancelled] New Hope Christian School set up
LOCATION:GPHS PAC Stage
DESCRIPTION:Groups:\nNew Hope Christian School\n\nSchools:\nGrants Pass Hi
 gh School \n\nLocation:\nGPHS PAC Stage\n\n
URL;VALUE=URI:https://grantspass.tandem.co/index.php?type=view&action=even
 t&id=1941
CREATED:20100830T220405Z
LAST-MODIFIED:20110401T175020Z
UID:event-1941-grantspasshigh@intand.com
END:VEVENT
END:VCALENDAR
