BEGIN:VCALENDAR
VERSION:2.0
PRODID:-//Intand Corporation//Tandem//EN
METHOD:PUBLISH
BEGIN:VEVENT
DTSTAMP:20260422T003218Z
DTSTART:20110511T003000Z
DTEND:20110511T033000Z
TRANSP:TRANSPARENT
PRIORITY:0
SUMMARY:GPHS Band rehearsal
LOCATION:GPHS PAC Stage
DESCRIPTION:Groups:\nGPHS Band\n\nSchools:\nGrants Pass High School \n\nLo
 cation:\nGPHS PAC Stage\n\n
URL;VALUE=URI:https://grantspass.tandem.co/index.php?type=view&action=even
 t&id=1927
CREATED:20100830T214439Z
LAST-MODIFIED:20100830T214439Z
UID:event-1927-grantspasshigh@intand.com
END:VEVENT
END:VCALENDAR
