BEGIN:VCALENDAR
VERSION:2.0
PRODID:-//Intand Corporation//Tandem//EN
METHOD:PUBLISH
BEGIN:VEVENT
DTSTAMP:20260422T013148Z
DTSTART:20110412T143000Z
DTEND:20110412T233000Z
TRANSP:TRANSPARENT
PRIORITY:0
SUMMARY:SOMEA Band Festival
LOCATION:GPHS PAC Stage
DESCRIPTION:Groups:\nGPHS Band\nNorth MS Band\nSMS Band\n\nSchools:\nGrant
 s Pass High School \nNorth Middle School\nSouth Middle School\n\nLocation:
 \nGPHS PAC Stage\n\n
URL;VALUE=URI:https://grantspass.tandem.co/index.php?type=view&action=even
 t&id=1910
CREATED:20100830T212823Z
LAST-MODIFIED:20100830T212823Z
UID:event-1910-grantspasshigh@intand.com
END:VEVENT
END:VCALENDAR
