BEGIN:VCALENDAR
VERSION:2.0
PRODID:-//Intand Corporation//Tandem//EN
METHOD:PUBLISH
BEGIN:VEVENT
DTSTAMP:20260422T002545Z
DTSTART:20110129T020000Z
DTEND:20110129T070000Z
TRANSP:TRANSPARENT
PRIORITY:0
SUMMARY:Independent Movie Festival
LOCATION:GPHS PAC Stage
DESCRIPTION:Groups:\nRogue Community College\n\nSchools:\nGrants Pass High
  School \n\nLocation:\nGPHS PAC Stage\n\n
URL;VALUE=URI:https://grantspass.tandem.co/index.php?type=view&action=even
 t&id=1859
CREATED:20100830T203846Z
LAST-MODIFIED:20110124T174424Z
UID:event-1859-grantspasshigh@intand.com
END:VEVENT
END:VCALENDAR
