BEGIN:VCALENDAR
VERSION:2.0
PRODID:-//Intand Corporation//Tandem//EN
METHOD:PUBLISH
BEGIN:VEVENT
DTSTAMP:20260422T013147Z
DTSTART:20101218T220000Z
DTEND:20101219T010000Z
TRANSP:TRANSPARENT
PRIORITY:0
SUMMARY:Nutcracker show
LOCATION:GPHS PAC Stage
DESCRIPTION:Groups:\nStillpoint Dance Studio\n\nSchools:\nGrants Pass High
  School \n\nLocation:\nGPHS PAC Stage\n\n
URL;VALUE=URI:https://grantspass.tandem.co/index.php?type=view&action=even
 t&id=1825
CREATED:20100830T194736Z
LAST-MODIFIED:20101206T200813Z
UID:event-1825-grantspasshigh@intand.com
END:VEVENT
END:VCALENDAR
