BEGIN:VCALENDAR
VERSION:2.0
PRODID:-//Intand Corporation//Tandem//EN
METHOD:PUBLISH
BEGIN:VEVENT
DTSTAMP:20260422T003201Z
DTSTART:20101119T013000Z
DTEND:20101119T043000Z
TRANSP:TRANSPARENT
PRIORITY:0
SUMMARY:[Cancelled] Grants Pass Public Safety
LOCATION:GPHS PAC Choir room/Lecture Hall
DESCRIPTION:Groups:\nGrants Pass Public Safety\n\nSchools:\nGrants Pass Hi
 gh School \n\nLocation:\nGPHS PAC Choir room/Lecture Hall\n\n
URL;VALUE=URI:https://grantspass.tandem.co/index.php?type=view&action=even
 t&id=1813
CREATED:20100830T192925Z
LAST-MODIFIED:20101113T014640Z
UID:event-1813-grantspasshigh@intand.com
END:VEVENT
END:VCALENDAR
