BEGIN:VCALENDAR
VERSION:2.0
PRODID:-//Intand Corporation//Tandem//EN
METHOD:PUBLISH
BEGIN:VEVENT
DTSTAMP:20260422T001745Z
DTSTART:20101120T033000Z
DTEND:20101120T063000Z
TRANSP:TRANSPARENT
PRIORITY:0
SUMMARY:GPHS Drama Show
LOCATION:GPHS PAC Stage
DESCRIPTION:Groups:\nGPHS Drama\n\nSchools:\nGrants Pass High School \n\nL
 ocation:\nGPHS PAC Stage\n\n
URL;VALUE=URI:https://grantspass.tandem.co/index.php?type=view&action=even
 t&id=1804
CREATED:20100830T192531Z
LAST-MODIFIED:20100830T192531Z
UID:event-1804-grantspasshigh@intand.com
END:VEVENT
END:VCALENDAR
