BEGIN:VCALENDAR
VERSION:2.0
PRODID:-//Intand Corporation//Tandem//EN
METHOD:PUBLISH
BEGIN:VEVENT
DTSTAMP:20260422T013046Z
DTSTART:20101024T013000Z
DTEND:20101024T050000Z
TRANSP:TRANSPARENT
PRIORITY:0
SUMMARY:Women's Crisis Support Team
LOCATION:GPHS PAC Stage
DESCRIPTION:Groups:\nWomen's Crisis Support Team\n\nSchools:\nGrants Pass 
 High School \n\nLocation:\nGPHS PAC Stage\n\n
URL;VALUE=URI:https://grantspass.tandem.co/index.php?type=view&action=even
 t&id=1786
CREATED:20100830T191450Z
LAST-MODIFIED:20100830T191450Z
UID:event-1786-grantspasshigh@intand.com
END:VEVENT
END:VCALENDAR
