BEGIN:VCALENDAR
VERSION:2.0
PRODID:-//Intand Corporation//Tandem//EN
METHOD:PUBLISH
BEGIN:VEVENT
DTSTAMP:20260422T001552Z
DTSTART;VALUE=DATE:20101021
DTEND;VALUE=DATE:20101022
TRANSP:TRANSPARENT
PRIORITY:0
SUMMARY:Set construction
LOCATION:GPHS PAC Stage
DESCRIPTION:Groups:\nGPHS Drama\n\nSchools:\nGrants Pass High School \n\nL
 ocation:\nGPHS PAC Stage\n\n
URL;VALUE=URI:https://grantspass.tandem.co/index.php?type=view&action=even
 t&id=1765
CREATED:20100830T190403Z
LAST-MODIFIED:20100831T163119Z
UID:event-1765-grantspasshigh@intand.com
END:VEVENT
END:VCALENDAR
