BEGIN:VCALENDAR
VERSION:2.0
PRODID:-//Intand Corporation//Tandem//EN
METHOD:PUBLISH
BEGIN:VEVENT
DTSTAMP:20260422T001708Z
DTSTART:20100901T143000Z
DTEND:20100901T230000Z
TRANSP:TRANSPARENT
PRIORITY:0
SUMMARY:SOESD Training
LOCATION:GPHS PAC Choir room/Lecture Hall
DESCRIPTION:Groups:\nDistrict #7 Faculty\n\nSchools:\nAllen Dale Elementar
 y School\nGrants Pass High School \nHighland Elementary School\nLincoln El
 ementary School\nNorth Middle School\nParkside Elementary School\nRedwood 
 Elementary School\nRiverside Elementary School\nSouth Middle School\n\nLoc
 ation:\nGPHS PAC Choir room/Lecture Hall\n\n
URL;VALUE=URI:https://grantspass.tandem.co/index.php?type=view&action=even
 t&id=1622
CREATED:20100826T053817Z
LAST-MODIFIED:20100826T053917Z
UID:event-1622-grantspasshigh@intand.com
END:VEVENT
END:VCALENDAR
