BEGIN:VCALENDAR
VERSION:2.0
PRODID:-//Intand Corporation//Tandem//EN
METHOD:PUBLISH
BEGIN:VEVENT
DTSTAMP:20260422T013130Z
DTSTART:20100903T170000Z
DTEND:20100903T190000Z
TRANSP:TRANSPARENT
PRIORITY:0
SUMMARY:GPHS Freshman Volleyball Practice
LOCATION:GPHS Main Gym\, GPHS PE Gym
DESCRIPTION:Freshman Only\n\nGroups:\nGPHS Volleyball JVII\nGPHS Volleybal
 l JV\nGPHS Volleyball Varsity\n\nSchools:\nGrants Pass High School \n\nLoc
 ations:\nGPHS Main Gym\nGPHS PE Gym\n\n
URL;VALUE=URI:https://grantspass.tandem.co/index.php?type=view&action=even
 t&id=1563
CREATED:20100821T001147Z
LAST-MODIFIED:20100825T215727Z
UID:event-1563-grantspasshigh@intand.com
END:VEVENT
END:VCALENDAR
