BEGIN:VCALENDAR
VERSION:2.0
PRODID:-//Intand Corporation//Tandem//EN
METHOD:PUBLISH
BEGIN:VEVENT
DTSTAMP:20260422T003406Z
DTSTART:20100902T233000Z
DTEND:20100903T023000Z
TRANSP:TRANSPARENT
PRIORITY:0
SUMMARY:South Middle School Welcome Back BBQ
LOCATION:South MS Main Gym\, South MS Small Gym\, South MS Field - Upper
DESCRIPTION:Groups:\nSMS Parents\nSMS Student Body\nSMS Staff\n\nSchools:\
 nSouth Middle School\n\nLocations:\nSouth MS Main Gym\nSouth MS Small Gym\
 nSouth MS Field - Upper\n\n
URL;VALUE=URI:https://grantspass.tandem.co/index.php?type=view&action=even
 t&id=1351
CREATED:20100812T003007Z
LAST-MODIFIED:20100812T003007Z
UID:event-1351-grantspasshigh@intand.com
END:VEVENT
END:VCALENDAR
