BEGIN:VCALENDAR
VERSION:2.0
PRODID:-//Intand Corporation//Tandem//EN
METHOD:PUBLISH
BEGIN:VEVENT
DTSTAMP:20260422T013035Z
DTSTART:20100918T160000Z
DTEND:20100918T230000Z
TRANSP:TRANSPARENT
PRIORITY:0
SUMMARY:GPHS BAND- Practice
LOCATION:GPHS Madrone Field - Lower
DESCRIPTION:Groups:\nGPHS Band\n\nSchools:\nGrants Pass High School \n\nLo
 cation:\nGPHS Madrone Field - Lower\n\n
URL;VALUE=URI:https://grantspass.tandem.co/index.php?type=view&action=even
 t&id=1248
CREATED:20100811T010419Z
LAST-MODIFIED:20100811T010419Z
UID:event-1248-grantspasshigh@intand.com
END:VEVENT
END:VCALENDAR
